BEGIN:VCALENDAR
VERSION:2.0
PRODID:-//Willenhall Lock Stock - ECPv6.15.20//NONSGML v1.0//EN
CALSCALE:GREGORIAN
METHOD:PUBLISH
X-WR-CALNAME:Willenhall Lock Stock
X-ORIGINAL-URL:https://friendsofwillenhallmemorialpark.co.uk
X-WR-CALDESC:Events for Willenhall Lock Stock
REFRESH-INTERVAL;VALUE=DURATION:PT1H
X-Robots-Tag:noindex
X-PUBLISHED-TTL:PT1H
BEGIN:VTIMEZONE
TZID:Europe/London
BEGIN:DAYLIGHT
TZOFFSETFROM:+0000
TZOFFSETTO:+0100
TZNAME:BST
DTSTART:20220327T010000
END:DAYLIGHT
BEGIN:STANDARD
TZOFFSETFROM:+0100
TZOFFSETTO:+0000
TZNAME:GMT
DTSTART:20221030T010000
END:STANDARD
BEGIN:DAYLIGHT
TZOFFSETFROM:+0000
TZOFFSETTO:+0100
TZNAME:BST
DTSTART:20230326T010000
END:DAYLIGHT
BEGIN:STANDARD
TZOFFSETFROM:+0100
TZOFFSETTO:+0000
TZNAME:GMT
DTSTART:20231029T010000
END:STANDARD
BEGIN:DAYLIGHT
TZOFFSETFROM:+0000
TZOFFSETTO:+0100
TZNAME:BST
DTSTART:20240331T010000
END:DAYLIGHT
BEGIN:STANDARD
TZOFFSETFROM:+0100
TZOFFSETTO:+0000
TZNAME:GMT
DTSTART:20241027T010000
END:STANDARD
END:VTIMEZONE
BEGIN:VEVENT
DTSTART;TZID=Europe/London:20230903T120000
DTEND;TZID=Europe/London:20230903T210000
DTSTAMP:20260425T114134
CREATED:20181205T152235Z
LAST-MODIFIED:20230711T124036Z
UID:204-1693742400-1693774800@friendsofwillenhallmemorialpark.co.uk
SUMMARY:Willenhall Lock Stock Music Festival
DESCRIPTION:Tickets for Willenhall Lock Stock can be purchased from Touch Down Vapes Clarkes Lane Willenhall \, The Spud Man on Market days and ARCs and Sparks Rose hill Willenhall . \nEarly bird tickets at £5 available until July 31st \nAugust tickets are £7.50 \nSeptember tickets are £10 . \nAccompanied and supervised children are free but will be registered on entry . \nWillenhall Lock Stock 2023 is now in its 6th year and has become the largest social event in Willenhall. The festival is a great place for local bands to showcase to audiences of up to 4000\, including many local promoters who use the day to book acts at their venues. \nWillenhall Lock Stock is a not-for-profit event and exists to give the town and population of Willenhall and the surrounding areas a great day out. \n.We now have three stages\, as Willenhall Lock Stock has recently purchased and refurbished a mobile stage called Wild Horses\, which is a community resource that’s already been used in 2022 to support local good causes. \nThe three stages: \n\nThe Sgt Pepper Stage (Soul and pop performers)\nThe Sticky Fingers Stage (Rock bands)\nWild Horses Stage (set aside for newly formed bands or performers in the rock arena) 15 minutes of fame|\n\n  \n  \n  \n  \n  \n  \n  \n  \n. \n 
URL:https://friendsofwillenhallmemorialpark.co.uk/event/willenhall-lock-stock-music-festival/
LOCATION:Willenhall Park\, Dartmouth Avenue\, Willenhall\, WV13 2PW
CATEGORIES:Public Events,Ticket Event
ORGANIZER;CN="Willenhall Lock Stock":MAILTO:nigel.dutton@willenhalllockstock.co.uk
END:VEVENT
END:VCALENDAR